BEGIN:VCALENDAR
VERSION:2.0
PRODID:-//Biodescodificación | BioNeuroEmoción | Salud Ricard - ECPv6.15.15//NONSGML v1.0//EN
CALSCALE:GREGORIAN
METHOD:PUBLISH
X-ORIGINAL-URL:https://www.saludricard.com
X-WR-CALDESC:Eventos para Biodescodificación | BioNeuroEmoción | Salud Ricard
REFRESH-INTERVAL;VALUE=DURATION:PT1H
X-Robots-Tag:noindex
X-PUBLISHED-TTL:PT1H
BEGIN:VTIMEZONE
TZID:Europe/Madrid
BEGIN:DAYLIGHT
TZOFFSETFROM:+0100
TZOFFSETTO:+0200
TZNAME:CEST
DTSTART:20180325T010000
END:DAYLIGHT
BEGIN:STANDARD
TZOFFSETFROM:+0200
TZOFFSETTO:+0100
TZNAME:CET
DTSTART:20181028T010000
END:STANDARD
BEGIN:DAYLIGHT
TZOFFSETFROM:+0100
TZOFFSETTO:+0200
TZNAME:CEST
DTSTART:20190331T010000
END:DAYLIGHT
BEGIN:STANDARD
TZOFFSETFROM:+0200
TZOFFSETTO:+0100
TZNAME:CET
DTSTART:20191027T010000
END:STANDARD
BEGIN:DAYLIGHT
TZOFFSETFROM:+0100
TZOFFSETTO:+0200
TZNAME:CEST
DTSTART:20200329T010000
END:DAYLIGHT
BEGIN:STANDARD
TZOFFSETFROM:+0200
TZOFFSETTO:+0100
TZNAME:CET
DTSTART:20201025T010000
END:STANDARD
END:VTIMEZONE
BEGIN:VEVENT
DTSTART;TZID=Europe/Madrid:20191005T170000
DTEND;TZID=Europe/Madrid:20191005T183000
DTSTAMP:20260425T050235
CREATED:20190910T092718Z
LAST-MODIFIED:20190910T092718Z
UID:12777-1570294800-1570300200@www.saludricard.com
SUMMARY:Actividad Gratuita: ESCUCHA\, SIENTE Y EXPRESA
DESCRIPTION:Acabaron las vacaciones y para la mayoría de personas comienza la rutina y un ritmo desenfrenado de trabajo y obligaciones. \nDesde Salud Ricard y siguiendo en la línea de promover estados saludables\, en esta ocasión te propongo dedicar una hora de tu tiempo a hacer un viaje hacia dentro. \nEscucharás diferentes melodías \, invitándote a que pongas especial atención en cómo te hacen sentir. Una hora para desconectar de obligaciones y preocupaciones\, para dejar ir\, liberar la mente y escucharte a ti mismo/a. \nAl finalizar la escucha dedicaremos un tiempo a intercambiar impresiones sobre lo experimentado. \nActividad GRATUITA\, dirigida por Ricard Rodulfo (Terapeuta especializado en Biodescodificación\, Acupuntura\,…) \nSábado 5 de Octubre a las 17:00 a 18:30 \nATENCIÓN: Se recomienda llegar a las 16:45h. A las 17:00h se iniciará  la actividad y con el fin de evitar interrupciones\, ya no se podrá acceder a la sala. \nEs aconsejable venir con algo de ropa de abrigo. Al relajarse suele bajar un poco la temperatura corporal y nos interesa estar confortables. Habrá sillas para sentarse pero si lo prefieres puedes traer esterilla y manta. \nPara confirmar asistencia llamar o enviar mensaje lo antes posible al 655220980 (Plazas Limitadas) \nCentro: Salud Ricard \nC/ Sant Miquel\, 37 de Vila-sana (LLEIDA)
URL:https://www.saludricard.com/evento/actividad-gratuita-escucha-siente-y-expresa/
LOCATION:Salud Ricard\, C/. Sant Miquel\, 37\, Vila-Sana\, Lleida\, 25245\, España
CATEGORIES:BIENESTAR,BIODESCODIFICACIÓN,CHARLA,Taller
ATTACH;FMTTYPE=image/jpeg:https://www.saludricard.com/wp-content/uploads/2019/09/sentir2.jpg
ORGANIZER;CN="Salud Ricard":MAILTO:info@saludricard.com
END:VEVENT
END:VCALENDAR