BEGIN:VCALENDAR
VERSION:2.0
PRODID:-//Biodescodificación | BioNeuroEmoción | Salud Ricard - ECPv6.15.15//NONSGML v1.0//EN
CALSCALE:GREGORIAN
METHOD:PUBLISH
X-WR-CALNAME:Biodescodificación | BioNeuroEmoción | Salud Ricard
X-ORIGINAL-URL:https://www.saludricard.com
X-WR-CALDESC:Eventos para Biodescodificación | BioNeuroEmoción | Salud Ricard
REFRESH-INTERVAL;VALUE=DURATION:PT1H
X-Robots-Tag:noindex
X-PUBLISHED-TTL:PT1H
BEGIN:VTIMEZONE
TZID:Europe/Madrid
BEGIN:DAYLIGHT
TZOFFSETFROM:+0100
TZOFFSETTO:+0200
TZNAME:CEST
DTSTART:20250330T010000
END:DAYLIGHT
BEGIN:STANDARD
TZOFFSETFROM:+0200
TZOFFSETTO:+0100
TZNAME:CET
DTSTART:20251026T010000
END:STANDARD
BEGIN:DAYLIGHT
TZOFFSETFROM:+0100
TZOFFSETTO:+0200
TZNAME:CEST
DTSTART:20260329T010000
END:DAYLIGHT
BEGIN:STANDARD
TZOFFSETFROM:+0200
TZOFFSETTO:+0100
TZNAME:CET
DTSTART:20261025T010000
END:STANDARD
BEGIN:DAYLIGHT
TZOFFSETFROM:+0100
TZOFFSETTO:+0200
TZNAME:CEST
DTSTART:20270328T010000
END:DAYLIGHT
BEGIN:STANDARD
TZOFFSETFROM:+0200
TZOFFSETTO:+0100
TZNAME:CET
DTSTART:20271031T010000
END:STANDARD
END:VTIMEZONE
BEGIN:VEVENT
DTSTART;TZID=Europe/Madrid:20260202T193000
DTEND;TZID=Europe/Madrid:20260323T210000
DTSTAMP:20260420T015110
CREATED:20260126T145126Z
LAST-MODIFIED:20260126T145126Z
UID:14820-1770060600-1774299600@www.saludricard.com
SUMMARY:PROGRAMA / CURSO IMPULSA tu PROSPERIDAD
DESCRIPTION:IMPULSA TU PROSPERIDAD\nAutor y formador RICARD RODULFO \nIMPULSA TU PROSPERIDAD\, No es un curso teórico. \nEs un acompañamiento profundo de 10 sesiones\, diseñado para darte pautas y que puedas transformar tu relación con el dinero y tu vida desde la raíz\, combinando: \n\nLocalización de bloqueos y frenos\,\ncambio de creencias\,\nliberación emocional\,\ntransformación de patrones familiares\,\npsicología de la prosperidad\,\nahorro inteligente\,\nestrategias financieras aplicables desde cero\,\nvariantes de inversión\,\ny un plan personalizado para 2026.\n\nEste programa está pensado para que quien lo aplique pueda: \n\nIncrementar sus ingresos\nAhorrar de forma constante\nEliminar gastos ocultos\nTomar decisiones financieras más conscientes y favorables\nEvitar errores habituales que cuestan dinero\nEvitar trampas que frenan la prosperidad\nAumentar su capacidad de generar ingresos pasivos\nConstruir seguridad económica\nRomper bloqueos internos que frenaban la prosperidad\n\nEso significa que el valor de la formación permite multiplicar la inversión en muy poco tiempo si aplicas los conocimientos y te implicas. \nEl programa incluye: \n\n10 sesiones de 1h30 en directo (15 horas totales)\nGrabaciones de las sesiones disponibles\nPlantillas de control financiero\nAcompañamiento en directo durante las sesiones\nHoja de Ruta personalizada para prosperar en 2026\n\nLos 5 bloques del programa “IMPULSA tu PROSPERIDAD” \n🧠 1. Mentalidad y Creencias \nLa base de todo cambio. \n\nCreencias limitantes sobre el dinero\nMerecimiento\, miedo y culpa\nReprogramación mental para prosperar\n\n  \n🌳 2. Historia Personal y Familiar \nLo que heredaste sin darte cuenta. \n\nPatrones económicos familiares\nLealtades invisibles\nRepetición de escasez o sacrificio\nLiberación del pasado para avanzar\n\n  \n❤️ 3. Emociones y Psicología de la Prosperidad \nCómo tus emociones influyen en tu economía. \n\nBloqueos emocionales\nSabotaje inconsciente\nConstrucción de una identidad próspera\nSeguridad interna y claridad\n\n  \n💰 4. Finanzas Personales Conscientes \nOrden y control en el presente. \n\nOrganización del dinero\nAhorro inteligente\nGestión de gastos\nHábitos económicos saludables\n\n  \n📈 5. Inversión y Generación de Recursos \nCrear crecimiento y futuro. \n\nMentalidad inversora\nCómo empezar a invertir\nEvitar errores financieros\nCrear nuevas fuentes de ingresos\nPensar a medio y largo plazo\nGenerar intereses y sus variantes\n\n  \n✨ Resultado final \nUn enfoque integral que une mentalidad\, emoción y acción\, para poder crear una prosperidad real\, sostenible y dilatada en el tiempo. \n\n10 encuentros de 1h 30’\nTodos los lunes de febrero y marzo a las 19:30h + viernes 15 febrero y marzo a las 19:30\nInicio 2 de febrero. Finaliza el 23 de marzo\nModalidad online a través de zoom\nAcceso a la grabación de las sesiones durante un año\nPrecio 480€\n\nFormador: Ricard Rodulfo Cano\, terapeuta y autor del libro EL CAMINO SECRETO HACIA LA PROSPERIDAD \nPuedes acceder a la inscripción del Programa IMPULSA TU PROSPERIDAD a través de ESTE LINK
URL:https://www.saludricard.com/evento/programa-curso-impulsa-tu-prosperidad/
CATEGORIES:CURSO
ATTACH;FMTTYPE=image/jpeg:https://www.saludricard.com/wp-content/uploads/2025/12/Impulsa-tu-prosperidad-con-Ricard-Rodulfo.jpg
ORGANIZER;CN="Salud Ricard":MAILTO:info@saludricard.com
END:VEVENT
END:VCALENDAR